BEGIN:VCALENDAR
VERSION:2.0
PRODID:-//Essex Vice Presidents Association - ECPv6.15.20//NONSGML v1.0//EN
CALSCALE:GREGORIAN
METHOD:PUBLISH
X-ORIGINAL-URL:https://evpa.co.uk
X-WR-CALDESC:Events for Essex Vice Presidents Association
REFRESH-INTERVAL;VALUE=DURATION:PT1H
X-Robots-Tag:noindex
X-PUBLISHED-TTL:PT1H
BEGIN:VTIMEZONE
TZID:Europe/London
BEGIN:DAYLIGHT
TZOFFSETFROM:+0000
TZOFFSETTO:+0100
TZNAME:BST
DTSTART:20240331T010000
END:DAYLIGHT
BEGIN:STANDARD
TZOFFSETFROM:+0100
TZOFFSETTO:+0000
TZNAME:GMT
DTSTART:20241027T010000
END:STANDARD
BEGIN:DAYLIGHT
TZOFFSETFROM:+0000
TZOFFSETTO:+0100
TZNAME:BST
DTSTART:20250330T010000
END:DAYLIGHT
BEGIN:STANDARD
TZOFFSETFROM:+0100
TZOFFSETTO:+0000
TZNAME:GMT
DTSTART:20251026T010000
END:STANDARD
BEGIN:DAYLIGHT
TZOFFSETFROM:+0000
TZOFFSETTO:+0100
TZNAME:BST
DTSTART:20260329T010000
END:DAYLIGHT
BEGIN:STANDARD
TZOFFSETFROM:+0100
TZOFFSETTO:+0000
TZNAME:GMT
DTSTART:20261025T010000
END:STANDARD
END:VTIMEZONE
BEGIN:VEVENT
DTSTART;TZID=Europe/London:20251001T140000
DTEND;TZID=Europe/London:20251001T190000
DTSTAMP:20260420T205627
CREATED:20241216T155018Z
LAST-MODIFIED:20241216T161059Z
UID:1575-1759327200-1759345200@evpa.co.uk
SUMMARY:Basildon and District BA
DESCRIPTION:
URL:https://evpa.co.uk/event/basildon-and-district-ba/
LOCATION:Essex County Bowling Indoor Club\, 21 Imperial Avenue\, Westcliff-On-Sea\, SS0 8NE\, United Kingdom
CATEGORIES:Outdoor Friendlies
ORGANIZER;CN="Match Secretary - Keith Jones":MAILTO:keithjones1956@live.co.uk
END:VEVENT
BEGIN:VEVENT
DTSTART;TZID=Europe/London:20251016T140000
DTEND;TZID=Europe/London:20251016T190000
DTSTAMP:20260420T205627
CREATED:20241216T155425Z
LAST-MODIFIED:20241216T161042Z
UID:1577-1760623200-1760641200@evpa.co.uk
SUMMARY:Chigwell IBC
DESCRIPTION:
URL:https://evpa.co.uk/event/chigwell-ibc-4/
LOCATION:Chigwell IBC\, David Lloyd Leisure Centre\, Roding Lane\, Buckhurst Hill Chigwell\, IG9 6BJ
CATEGORIES:Indoor Friendlies
ORGANIZER;CN="Match Secretary - Keith Jones":MAILTO:keithjones1956@live.co.uk
END:VEVENT
BEGIN:VEVENT
DTSTART;TZID=Europe/London:20251023T140000
DTEND;TZID=Europe/London:20251023T190000
DTSTAMP:20260420T205627
CREATED:20241216T160031Z
LAST-MODIFIED:20241216T161028Z
UID:1579-1761228000-1761246000@evpa.co.uk
SUMMARY:Essex County IBA
DESCRIPTION:
URL:https://evpa.co.uk/event/essex-county-iba-3/
LOCATION:Colchester IBC\, Fitzgilbert Road\, Colchester\, CO2 7XB
CATEGORIES:Indoor Friendlies
ORGANIZER;CN="Match Secretary - Keith Jones":MAILTO:keithjones1956@live.co.uk
END:VEVENT
END:VCALENDAR