BEGIN:VCALENDAR
VERSION:2.0
PRODID:-//Essex Vice Presidents Association - ECPv6.15.20//NONSGML v1.0//EN
CALSCALE:GREGORIAN
METHOD:PUBLISH
X-WR-CALNAME:Essex Vice Presidents Association
X-ORIGINAL-URL:https://evpa.co.uk
X-WR-CALDESC:Events for Essex Vice Presidents Association
REFRESH-INTERVAL;VALUE=DURATION:PT1H
X-Robots-Tag:noindex
X-PUBLISHED-TTL:PT1H
BEGIN:VTIMEZONE
TZID:Europe/London
BEGIN:DAYLIGHT
TZOFFSETFROM:+0000
TZOFFSETTO:+0100
TZNAME:BST
DTSTART:20240331T010000
END:DAYLIGHT
BEGIN:STANDARD
TZOFFSETFROM:+0100
TZOFFSETTO:+0000
TZNAME:GMT
DTSTART:20241027T010000
END:STANDARD
BEGIN:DAYLIGHT
TZOFFSETFROM:+0000
TZOFFSETTO:+0100
TZNAME:BST
DTSTART:20250330T010000
END:DAYLIGHT
BEGIN:STANDARD
TZOFFSETFROM:+0100
TZOFFSETTO:+0000
TZNAME:GMT
DTSTART:20251026T010000
END:STANDARD
BEGIN:DAYLIGHT
TZOFFSETFROM:+0000
TZOFFSETTO:+0100
TZNAME:BST
DTSTART:20260329T010000
END:DAYLIGHT
BEGIN:STANDARD
TZOFFSETFROM:+0100
TZOFFSETTO:+0000
TZNAME:GMT
DTSTART:20261025T010000
END:STANDARD
END:VTIMEZONE
BEGIN:VEVENT
DTSTART;TZID=Europe/London:20250205T141500
DTEND;TZID=Europe/London:20250205T190000
DTSTAMP:20260420T222846
CREATED:20241020T193534Z
LAST-MODIFIED:20241104T220912Z
UID:1440-1738764900-1738782000@evpa.co.uk
SUMMARY:Falcon IBC
DESCRIPTION:
URL:https://evpa.co.uk/event/falcon-ibc-4/
LOCATION:Essex
CATEGORIES:Indoor Friendlies
ORGANIZER;CN="Match Secretary - Keith Jones":MAILTO:keithjones1956@live.co.uk
END:VEVENT
BEGIN:VEVENT
DTSTART;TZID=Europe/London:20250218T140000
DTEND;TZID=Europe/London:20250218T190000
DTSTAMP:20260420T222846
CREATED:20241020T195121Z
LAST-MODIFIED:20241020T202306Z
UID:1448-1739887200-1739905200@evpa.co.uk
SUMMARY:Colchester IBC
DESCRIPTION:
URL:https://evpa.co.uk/event/colchester-ibc-4/
LOCATION:Colchester IBC\, Fitzgilbert Road\, Colchester\, CO2 7XB
CATEGORIES:Indoor Friendlies
ORGANIZER;CN="Match Secretary - Keith Jones":MAILTO:keithjones1956@live.co.uk
END:VEVENT
BEGIN:VEVENT
DTSTART;TZID=Europe/London:20250226T133000
DTEND;TZID=Europe/London:20250226T183000
DTSTAMP:20260420T222846
CREATED:20241020T195433Z
LAST-MODIFIED:20241020T202255Z
UID:1450-1740576600-1740594600@evpa.co.uk
SUMMARY:Tye Green IBC
DESCRIPTION:
URL:https://evpa.co.uk/event/tye-green-ibc-3/
LOCATION:Tye Green IBC\, Tilegate Road\, Harlow\, CM18 6LU
CATEGORIES:Indoor Friendlies
ORGANIZER;CN="Match Secretary - Keith Jones":MAILTO:keithjones1956@live.co.uk
END:VEVENT
END:VCALENDAR