BEGIN:VCALENDAR
VERSION:2.0
PRODID:-//Essex Vice Presidents Association - ECPv6.15.20//NONSGML v1.0//EN
CALSCALE:GREGORIAN
METHOD:PUBLISH
X-WR-CALNAME:Essex Vice Presidents Association
X-ORIGINAL-URL:https://evpa.co.uk
X-WR-CALDESC:Events for Essex Vice Presidents Association
REFRESH-INTERVAL;VALUE=DURATION:PT1H
X-Robots-Tag:noindex
X-PUBLISHED-TTL:PT1H
BEGIN:VTIMEZONE
TZID:Europe/London
BEGIN:DAYLIGHT
TZOFFSETFROM:+0000
TZOFFSETTO:+0100
TZNAME:BST
DTSTART:20210328T010000
END:DAYLIGHT
BEGIN:STANDARD
TZOFFSETFROM:+0100
TZOFFSETTO:+0000
TZNAME:GMT
DTSTART:20211031T010000
END:STANDARD
BEGIN:DAYLIGHT
TZOFFSETFROM:+0000
TZOFFSETTO:+0100
TZNAME:BST
DTSTART:20220327T010000
END:DAYLIGHT
BEGIN:STANDARD
TZOFFSETFROM:+0100
TZOFFSETTO:+0000
TZNAME:GMT
DTSTART:20221030T010000
END:STANDARD
BEGIN:DAYLIGHT
TZOFFSETFROM:+0000
TZOFFSETTO:+0100
TZNAME:BST
DTSTART:20230326T010000
END:DAYLIGHT
BEGIN:STANDARD
TZOFFSETFROM:+0100
TZOFFSETTO:+0000
TZNAME:GMT
DTSTART:20231029T010000
END:STANDARD
END:VTIMEZONE
BEGIN:VTIMEZONE
TZID:UTC
BEGIN:STANDARD
TZOFFSETFROM:+0000
TZOFFSETTO:+0000
TZNAME:UTC
DTSTART:20210101T000000
END:STANDARD
END:VTIMEZONE
BEGIN:VEVENT
DTSTART;TZID=Europe/London:20220815T140000
DTEND;TZID=Europe/London:20220815T140000
DTSTAMP:20260421T024716
CREATED:20220213T115546Z
LAST-MODIFIED:20220213T130642Z
UID:234-1660572000-1660572000@evpa.co.uk
SUMMARY:Stock and Buttesbury BC (Cent)
DESCRIPTION:
URL:https://evpa.co.uk/event/stock-and-buttesbury-bc-cent/
LOCATION:Stock and Buttesbury Bowling Club\, Common Road\, The Bowling Green\, Stock\, Ingatestone\, CM4 9NF
CATEGORIES:Outdoor Friendlies
END:VEVENT
BEGIN:VEVENT
DTSTART;TZID=Europe/London:20220809T140000
DTEND;TZID=Europe/London:20220809T140000
DTSTAMP:20260421T024716
CREATED:20220213T115004Z
LAST-MODIFIED:20220213T130642Z
UID:230-1660053600-1660053600@evpa.co.uk
SUMMARY:Group 5
DESCRIPTION:
URL:https://evpa.co.uk/event/group-5/
LOCATION:Aldersbrook Bowls Club\, 34 Aldersbrook Road\, London\, E12 5DY
CATEGORIES:Outdoor Friendlies
END:VEVENT
BEGIN:VEVENT
DTSTART;TZID=Europe/London:20220804T140000
DTEND;TZID=Europe/London:20220804T140000
DTSTAMP:20260421T024716
CREATED:20220213T114656Z
LAST-MODIFIED:20220213T130642Z
UID:226-1659621600-1659621600@evpa.co.uk
SUMMARY:Group 8
DESCRIPTION:
URL:https://evpa.co.uk/event/group-8/
LOCATION:Harlow Bowling Club\, 32B Terminus Street\, Harlow\, CM20 1EY
CATEGORIES:Outdoor Friendlies
END:VEVENT
BEGIN:VEVENT
DTSTART;TZID=Europe/London:20220728T140000
DTEND;TZID=Europe/London:20220728T140000
DTSTAMP:20260421T024716
CREATED:20220213T114317Z
LAST-MODIFIED:20220213T130642Z
UID:224-1659016800-1659016800@evpa.co.uk
SUMMARY:Group 6
DESCRIPTION:
URL:https://evpa.co.uk/event/group-6/
LOCATION:Essex County Bowling Club\, 21 Imperial Avenue\, Westcliff-on-Sea\, SS0 8NE
CATEGORIES:Outdoor Friendlies
END:VEVENT
BEGIN:VEVENT
DTSTART;TZID=Europe/London:20220724T140000
DTEND;TZID=Europe/London:20220724T140000
DTSTAMP:20260421T024716
CREATED:20220213T111026Z
LAST-MODIFIED:20220213T200337Z
UID:201-1658671200-1658671200@evpa.co.uk
SUMMARY:EVPA 75th Anniversary Game
DESCRIPTION:
URL:https://evpa.co.uk/event/evpa-75th-anniversary-game/
CATEGORIES:Outdoor Friendlies
END:VEVENT
BEGIN:VEVENT
DTSTART;TZID=Europe/London:20220719T140000
DTEND;TZID=Europe/London:20220719T140000
DTSTAMP:20260421T024716
CREATED:20220213T113843Z
LAST-MODIFIED:20220213T130642Z
UID:221-1658239200-1658239200@evpa.co.uk
SUMMARY:NWE Bowling Association
DESCRIPTION:
URL:https://evpa.co.uk/event/nwe-bowling-association/
LOCATION:Saffron Walden Bowls Club\, Abbey Lane Bowling Green\, Saffron Walden\, CB10 1DG
CATEGORIES:Outdoor Friendlies
END:VEVENT
BEGIN:VEVENT
DTSTART;TZID=Europe/London:20220703T000000
DTEND;TZID=Europe/London:20220709T235959
DTSTAMP:20260421T024716
CREATED:20220213T113624Z
LAST-MODIFIED:20220213T125903Z
UID:217-1656806400-1657411199@evpa.co.uk
SUMMARY:Tour
DESCRIPTION:
URL:https://evpa.co.uk/event/tour-2/
CATEGORIES:Tour
ORGANIZER;CN="Tony Ellis":MAILTO:ae006g0987@blueyonder.co.uk
END:VEVENT
BEGIN:VEVENT
DTSTART;TZID=Europe/London:20220627T140000
DTEND;TZID=Europe/London:20220627T140000
DTSTAMP:20260421T024716
CREATED:20220213T112844Z
LAST-MODIFIED:20220213T130720Z
UID:211-1656338400-1656338400@evpa.co.uk
SUMMARY:West Mersea BC
DESCRIPTION:
URL:https://evpa.co.uk/event/west-mersea-bc/
LOCATION:West Mersea Bowling Club\, Colchester Road\, West Mersea\, CO5 8JZ
CATEGORIES:Outdoor Friendlies
END:VEVENT
BEGIN:VEVENT
DTSTART;TZID=Europe/London:20220623T140000
DTEND;TZID=Europe/London:20220623T140000
DTSTAMP:20260421T024716
CREATED:20220213T112352Z
LAST-MODIFIED:20220213T130721Z
UID:207-1655992800-1655992800@evpa.co.uk
SUMMARY:Group 4
DESCRIPTION:
URL:https://evpa.co.uk/event/group-4/
LOCATION:Haynes Park Bowling Club\, Slewins Lane\, Hornchurch\, RM11 2BZ
CATEGORIES:Outdoor Friendlies
END:VEVENT
BEGIN:VEVENT
DTSTART;TZID=Europe/London:20220614T140000
DTEND;TZID=Europe/London:20220614T140000
DTSTAMP:20260421T024716
CREATED:20220213T111255Z
LAST-MODIFIED:20220213T130808Z
UID:203-1655215200-1655215200@evpa.co.uk
SUMMARY:Essex County Bowling Association
DESCRIPTION:
URL:https://evpa.co.uk/event/essex-county-bowling-association/
LOCATION:South Benfleet and Canvey Bowling Club\, The Recreation Ground\, Rear of Brook Road\, Benfleet\, SS7 5JA
CATEGORIES:Outdoor Friendlies
END:VEVENT
BEGIN:VEVENT
DTSTART;TZID=Europe/London:20220606T140000
DTEND;TZID=Europe/London:20220606T140000
DTSTAMP:20260421T024716
CREATED:20220213T110341Z
LAST-MODIFIED:20220213T130721Z
UID:197-1654524000-1654524000@evpa.co.uk
SUMMARY:Group 3
DESCRIPTION:
URL:https://evpa.co.uk/event/group-3/
LOCATION:RHP Bowls Club\, Canterbury Way\, St Fabians\, Chelmsford\, CM1 2XN
CATEGORIES:Outdoor Friendlies
END:VEVENT
BEGIN:VEVENT
DTSTART;TZID=Europe/London:20220603T000000
DTEND;TZID=Europe/London:20220609T235959
DTSTAMP:20260421T024716
CREATED:20220213T113052Z
LAST-MODIFIED:20230105T225726Z
UID:215-1654214400-1654819199@evpa.co.uk
SUMMARY:Tour
DESCRIPTION:
URL:https://evpa.co.uk/event/tour/
END:VEVENT
BEGIN:VEVENT
DTSTART;TZID=Europe/London:20220602T140000
DTEND;TZID=Europe/London:20220602T140000
DTSTAMP:20260421T024716
CREATED:20220213T110109Z
LAST-MODIFIED:20220213T130858Z
UID:195-1654178400-1654178400@evpa.co.uk
SUMMARY:Essex County BC
DESCRIPTION:
URL:https://evpa.co.uk/event/essex-county-bc/
LOCATION:Essex County Bowling Club\, 21 Imperial Avenue\, Westcliff-on-Sea\, SS0 8NE
CATEGORIES:Outdoor Friendlies
END:VEVENT
BEGIN:VEVENT
DTSTART;TZID=Europe/London:20220523T140000
DTEND;TZID=Europe/London:20220523T140000
DTSTAMP:20260421T024716
CREATED:20220213T103351Z
LAST-MODIFIED:20220213T130858Z
UID:190-1653314400-1653314400@evpa.co.uk
SUMMARY:Walthamstow and District Bowling Association
DESCRIPTION:
URL:https://evpa.co.uk/event/walthamstow-and-dixtrict-bowling-association/
LOCATION:Buckhurst Hill Bowling and Lawn Tennis Club\, 72 Epping New Road\, Buckhurst Hill\, IG9 5TX
CATEGORIES:Outdoor Friendlies
END:VEVENT
BEGIN:VEVENT
DTSTART;TZID=Europe/London:20220516T140000
DTEND;TZID=Europe/London:20220516T140000
DTSTAMP:20260421T024716
CREATED:20220213T101402Z
LAST-MODIFIED:20220213T130858Z
UID:186-1652709600-1652709600@evpa.co.uk
SUMMARY:Essex Past Presidents
DESCRIPTION:
URL:https://evpa.co.uk/event/essex-past-presidents/
LOCATION:Elsenham Bowls Club\, 19 Leigh Drive\, Elsenham\, CM22 6BY
CATEGORIES:Outdoor Friendlies
END:VEVENT
BEGIN:VEVENT
DTSTART;TZID=Europe/London:20220512T140000
DTEND;TZID=Europe/London:20220512T140000
DTSTAMP:20260421T024716
CREATED:20220213T100553Z
LAST-MODIFIED:20220213T130858Z
UID:182-1652364000-1652364000@evpa.co.uk
SUMMARY:Group 2
DESCRIPTION:
URL:https://evpa.co.uk/event/group-2/
LOCATION:Saffron Walden Bowls Club\, Abbey Lane Bowling Green\, Saffron Walden\, CB10 1DG
CATEGORIES:Outdoor Friendlies
END:VEVENT
BEGIN:VEVENT
DTSTART;TZID=Europe/London:20220505T140000
DTEND;TZID=Europe/London:20220505T140000
DTSTAMP:20260421T024716
CREATED:20220212T233354Z
LAST-MODIFIED:20220213T130858Z
UID:177-1651759200-1651759200@evpa.co.uk
SUMMARY:Colchester BC
DESCRIPTION:
URL:https://evpa.co.uk/event/colchester-bc/
LOCATION:Colchester Bowls Club\, Fitzgerald Road\, Colchester\, CO2 7XB
CATEGORIES:Outdoor Friendlies
END:VEVENT
BEGIN:VEVENT
DTSTART;TZID=Europe/London:20220328T133000
DTEND;TZID=Europe/London:20220328T133000
DTSTAMP:20260421T024716
CREATED:20220212T231723Z
LAST-MODIFIED:20220213T130940Z
UID:170-1648474200-1648474200@evpa.co.uk
SUMMARY:West Mersea IBC
DESCRIPTION:
URL:https://evpa.co.uk/event/west-mersea-ibc/
LOCATION:West Mersea IBC\, Colchester Road\, West Mersea\, CO5 8JZ
CATEGORIES:Indoor Friendlies
END:VEVENT
BEGIN:VEVENT
DTSTART;TZID=Europe/London:20220323T133000
DTEND;TZID=Europe/London:20220323T133000
DTSTAMP:20260421T024716
CREATED:20220212T230629Z
LAST-MODIFIED:20220213T130940Z
UID:166-1648042200-1648042200@evpa.co.uk
SUMMARY:Jacks Centre IBC
DESCRIPTION:
URL:https://evpa.co.uk/event/jacks-centre-ibc/
LOCATION:Jacks Centre IBC\, Burnham Road\, \,Latchingdon\, CM3 6EX
CATEGORIES:Indoor Friendlies
END:VEVENT
BEGIN:VEVENT
DTSTART;TZID=Europe/London:20220303T143000
DTEND;TZID=Europe/London:20220303T143000
DTSTAMP:20260421T024716
CREATED:20220212T225722Z
LAST-MODIFIED:20220213T130940Z
UID:162-1646317800-1646317800@evpa.co.uk
SUMMARY:Tye Green IBC
DESCRIPTION:
URL:https://evpa.co.uk/event/tye-green-ibc/
LOCATION:Tye Green IBC\, Tilegate Road\, Harlow\, CM18 6LU
CATEGORIES:Indoor Friendlies
END:VEVENT
BEGIN:VEVENT
DTSTART;TZID=Europe/London:20220222T140000
DTEND;TZID=Europe/London:20220222T140000
DTSTAMP:20260421T024716
CREATED:20220212T223852Z
LAST-MODIFIED:20220213T130940Z
UID:160-1645538400-1645538400@evpa.co.uk
SUMMARY:Colchester IBC
DESCRIPTION:
URL:https://evpa.co.uk/event/colchester-ibc/
LOCATION:Colchester Bowls Club\, Fitzgerald Road\, Colchester\, CO2 7XB
CATEGORIES:Indoor Friendlies
END:VEVENT
BEGIN:VEVENT
DTSTART;TZID=Europe/London:20220216T141500
DTEND;TZID=Europe/London:20220216T170000
DTSTAMP:20260421T024716
CREATED:20220212T223202Z
LAST-MODIFIED:20220213T130940Z
UID:156-1645020900-1645030800@evpa.co.uk
SUMMARY:Falcon IBC
DESCRIPTION:
URL:https://evpa.co.uk/event/falcon-ibc/
LOCATION:Falcon IBC\, Channels Drive\, Broomfield\, Chelmsford\, CM3 3FB
CATEGORIES:Indoor Friendlies
END:VEVENT
BEGIN:VEVENT
DTSTART;TZID=UTC:20220126T141500
DTEND;TZID=UTC:20220126T190000
DTSTAMP:20260421T024716
CREATED:20211018T132149Z
LAST-MODIFIED:20220213T130940Z
UID:72-1643206500-1643223600@evpa.co.uk
SUMMARY:London Bowling S A
DESCRIPTION:
URL:https://evpa.co.uk/event/london-bowling-s-a/
CATEGORIES:Indoor Friendlies
ORGANIZER;CN="Fixture Secretary - Ray Woollard":MAILTO:rwoollard@gmail.com
END:VEVENT
BEGIN:VEVENT
DTSTART;TZID=Europe/London:20220126T141500
DTEND;TZID=Europe/London:20220126T141500
DTSTAMP:20260421T024716
CREATED:20220213T131020Z
LAST-MODIFIED:20220213T131020Z
UID:154-1643206500-1643206500@evpa.co.uk
SUMMARY:SCRIBOS
DESCRIPTION:
URL:https://evpa.co.uk/event/scribos/
CATEGORIES:Indoor Friendlies
END:VEVENT
BEGIN:VEVENT
DTSTART;TZID=Europe/London:20220119T140000
DTEND;TZID=Europe/London:20220119T190000
DTSTAMP:20260421T024716
CREATED:20211018T125103Z
LAST-MODIFIED:20220213T130940Z
UID:64-1642600800-1642618800@evpa.co.uk
SUMMARY:Essex County IBC
DESCRIPTION:[wpforms id=”82″ title=”true” description=”true”] \nEssex County IBC Friendly
URL:https://evpa.co.uk/event/essex-county-ibc/
LOCATION:Essex County Bowling Club\, 21 Imperial Avenue\, Westcliff-on-Sea\, SS0 8NE
CATEGORIES:Indoor Friendlies
END:VEVENT
END:VCALENDAR