BEGIN:VCALENDAR
VERSION:2.0
PRODID:-//Essex Vice Presidents Association - ECPv6.15.20//NONSGML v1.0//EN
CALSCALE:GREGORIAN
METHOD:PUBLISH
X-WR-CALNAME:Essex Vice Presidents Association
X-ORIGINAL-URL:https://evpa.co.uk
X-WR-CALDESC:Events for Essex Vice Presidents Association
REFRESH-INTERVAL;VALUE=DURATION:PT1H
X-Robots-Tag:noindex
X-PUBLISHED-TTL:PT1H
BEGIN:VTIMEZONE
TZID:Europe/London
BEGIN:DAYLIGHT
TZOFFSETFROM:+0000
TZOFFSETTO:+0100
TZNAME:BST
DTSTART:20250330T010000
END:DAYLIGHT
BEGIN:STANDARD
TZOFFSETFROM:+0100
TZOFFSETTO:+0000
TZNAME:GMT
DTSTART:20251026T010000
END:STANDARD
BEGIN:DAYLIGHT
TZOFFSETFROM:+0000
TZOFFSETTO:+0100
TZNAME:BST
DTSTART:20260329T010000
END:DAYLIGHT
BEGIN:STANDARD
TZOFFSETFROM:+0100
TZOFFSETTO:+0000
TZNAME:GMT
DTSTART:20261025T010000
END:STANDARD
BEGIN:DAYLIGHT
TZOFFSETFROM:+0000
TZOFFSETTO:+0100
TZNAME:BST
DTSTART:20270328T010000
END:DAYLIGHT
BEGIN:STANDARD
TZOFFSETFROM:+0100
TZOFFSETTO:+0000
TZNAME:GMT
DTSTART:20271031T010000
END:STANDARD
END:VTIMEZONE
BEGIN:VEVENT
DTSTART;TZID=Europe/London:20260304T140000
DTEND;TZID=Europe/London:20260304T180000
DTSTAMP:20260420T210002
CREATED:20251029T144259Z
LAST-MODIFIED:20251029T144301Z
UID:1942-1772632800-1772647200@evpa.co.uk
SUMMARY:Jacks Centre
DESCRIPTION:
URL:https://evpa.co.uk/event/jacks-centre/
LOCATION:Jacks Centre IBC\, Burnham Road\, \,Latchingdon\, CM3 6EX
ORGANIZER;CN="Match Secretary - Keith Jones":MAILTO:keithjones1956@live.co.uk
END:VEVENT
BEGIN:VEVENT
DTSTART;TZID=Europe/London:20260325T133000
DTEND;TZID=Europe/London:20260325T173000
DTSTAMP:20260420T210002
CREATED:20251029T144926Z
LAST-MODIFIED:20251029T144929Z
UID:1944-1774445400-1774459800@evpa.co.uk
SUMMARY:West Mersea IBC
DESCRIPTION:
URL:https://evpa.co.uk/event/west-mersea-ibc-4/
LOCATION:West Mersea IBC\, Colchester Road\, West Mersea\, CO5 8JZ
ORGANIZER;CN="Match Secretary - Keith Jones":MAILTO:keithjones1956@live.co.uk
END:VEVENT
BEGIN:VEVENT
DTSTART;TZID=Europe/London:20260507T140000
DTEND;TZID=Europe/London:20260507T180000
DTSTAMP:20260420T210002
CREATED:20251029T145215Z
LAST-MODIFIED:20251031T140533Z
UID:1946-1778162400-1778176800@evpa.co.uk
SUMMARY:Severalls BC
DESCRIPTION:
URL:https://evpa.co.uk/event/severalls-bc/
LOCATION:Severalls\, Kirby Drive off Mill Road\, Colchester\, Essex\, CO4 5LJ
CATEGORIES:Outdoor Friendlies
ORGANIZER;CN="Match Secretary - Keith Jones":MAILTO:keithjones1956@live.co.uk
END:VEVENT
BEGIN:VEVENT
DTSTART;TZID=Europe/London:20260511T140000
DTEND;TZID=Europe/London:20260511T180000
DTSTAMP:20260420T210002
CREATED:20260213T142210Z
LAST-MODIFIED:20260213T142219Z
UID:2128-1778508000-1778522400@evpa.co.uk
SUMMARY:Group 1 BA
DESCRIPTION:
URL:https://evpa.co.uk/event/group-1-ba/
LOCATION:Frinton Bowling Club\, Playfields\, Jubilee Way\, Frinton-on-Sea\, Essex\, CO13 0AP
ORGANIZER;CN="Match Secretary - Keith Jones":MAILTO:keithjones1956@live.co.uk
END:VEVENT
BEGIN:VEVENT
DTSTART;TZID=Europe/London:20260518T140000
DTEND;TZID=Europe/London:20260518T180000
DTSTAMP:20260420T210002
CREATED:20251030T115048Z
LAST-MODIFIED:20251031T140532Z
UID:1948-1779112800-1779127200@evpa.co.uk
SUMMARY:Witham BC
DESCRIPTION:
URL:https://evpa.co.uk/event/witham-bc-2/
LOCATION:Witham Bowls Club\, 14 Collingwood Road\, Witham\, CM8 2DY
CATEGORIES:Outdoor Friendlies
ORGANIZER;CN="Match Secretary - Keith Jones":MAILTO:keithjones1956@live.co.uk
END:VEVENT
BEGIN:VEVENT
DTSTART;TZID=Europe/London:20260524T140000
DTEND;TZID=Europe/London:20260524T180000
DTSTAMP:20260420T210002
CREATED:20251030T115711Z
LAST-MODIFIED:20251031T140532Z
UID:1950-1779631200-1779645600@evpa.co.uk
SUMMARY:Wanstead Central
DESCRIPTION:
URL:https://evpa.co.uk/event/wanstead-central/
LOCATION:Wanstead Central BC\, Nutter Lane\, Wanstead\, E11 2JA
CATEGORIES:Outdoor Friendlies
ORGANIZER;CN="Match Secretary - Keith Jones":MAILTO:keithjones1956@live.co.uk
END:VEVENT
BEGIN:VEVENT
DTSTART;TZID=Europe/London:20260528T020000
DTEND;TZID=Europe/London:20260528T180000
DTSTAMP:20260420T210002
CREATED:20251030T120012Z
LAST-MODIFIED:20251203T210248Z
UID:1952-1779933600-1779991200@evpa.co.uk
SUMMARY:Essex County BC
DESCRIPTION:
URL:https://evpa.co.uk/event/essex-county-bc-3/
LOCATION:Essex County Bowling Club\, 21 Imperial Avenue\, Westcliff-on-Sea\, SS0 8NE
CATEGORIES:Outdoor Friendlies
ORGANIZER;CN="Match Secretary - Keith Jones":MAILTO:keithjones1956@live.co.uk
END:VEVENT
BEGIN:VEVENT
DTSTART;TZID=Europe/London:20260601T020000
DTEND;TZID=Europe/London:20260601T180000
DTSTAMP:20260420T210002
CREATED:20251030T120253Z
LAST-MODIFIED:20251031T140532Z
UID:1954-1780279200-1780336800@evpa.co.uk
SUMMARY:Group 3
DESCRIPTION:
URL:https://evpa.co.uk/event/group-3-5/
LOCATION:RHP Bowls Club\, Canterbury Way\, St Fabians\, Chelmsford\, CM1 2XN
CATEGORIES:Outdoor Friendlies
END:VEVENT
BEGIN:VEVENT
DTSTART;TZID=Europe/London:20260609T020000
DTEND;TZID=Europe/London:20260609T180000
DTSTAMP:20260420T210002
CREATED:20251030T120818Z
LAST-MODIFIED:20251031T140532Z
UID:1956-1780970400-1781028000@evpa.co.uk
SUMMARY:ECBA
DESCRIPTION:
URL:https://evpa.co.uk/event/ecba/
LOCATION:Clacton-on-Sea Bowling Club\, Collingwood Road\, Clacton-On-Sea\, CO15 1XB
CATEGORIES:Outdoor Friendlies
ORGANIZER;CN="Match Secretary - Keith Jones":MAILTO:keithjones1956@live.co.uk
END:VEVENT
BEGIN:VEVENT
DTSTART;TZID=Europe/London:20260613T143000
DTEND;TZID=Europe/London:20260613T183000
DTSTAMP:20260420T210002
CREATED:20260213T141319Z
LAST-MODIFIED:20260213T142819Z
UID:2124-1781361000-1781375400@evpa.co.uk
SUMMARY:Stansted BC 120th Anniversary
DESCRIPTION:
URL:https://evpa.co.uk/event/stansted-bc-120th-anniversary/
LOCATION:Stansted Bowls Club\, Recreation Ground\, Stansted\, CM24 8BD
ORGANIZER;CN="Match Secretary - Keith Jones":MAILTO:keithjones1956@live.co.uk
END:VEVENT
BEGIN:VEVENT
DTSTART;TZID=Europe/London:20260618T140000
DTEND;TZID=Europe/London:20260618T180000
DTSTAMP:20260420T210002
CREATED:20260203T225137Z
LAST-MODIFIED:20260203T230727Z
UID:2106-1781791200-1781805600@evpa.co.uk
SUMMARY:Group 4 BA
DESCRIPTION:
URL:https://evpa.co.uk/event/group-4-ba/
LOCATION:Gidea Park BC\, 227 Main Road\, Romford\, RM2 6NP
ORGANIZER;CN="Match Secretary - Keith Jones":MAILTO:keithjones1956@live.co.uk
END:VEVENT
BEGIN:VEVENT
DTSTART;TZID=Europe/London:20260622T140000
DTEND;TZID=Europe/London:20260622T170000
DTSTAMP:20260420T210002
CREATED:20260203T192847Z
LAST-MODIFIED:20260203T223107Z
UID:2076-1782136800-1782147600@evpa.co.uk
SUMMARY:Newmarket Ave BC
DESCRIPTION:
URL:https://evpa.co.uk/event/newmarket-ave-bc/
LOCATION:Newmarket Ave BC\, 22 The Avenue\, Newmarket\, CB8 9AY
ORGANIZER;CN="Tour Secretary - Paul Costin":MAILTO:paulcostin@hotmail.co.uk
END:VEVENT
BEGIN:VEVENT
DTSTART;TZID=Europe/London:20260623T140000
DTEND;TZID=Europe/London:20260623T180000
DTSTAMP:20260420T210002
CREATED:20260203T211356Z
LAST-MODIFIED:20260203T223011Z
UID:2086-1782223200-1782237600@evpa.co.uk
SUMMARY:Hemingfords BC
DESCRIPTION:
URL:https://evpa.co.uk/event/hemingfords-bc/
LOCATION:Hemingford BC\, The Hemingford Pavilion\, Manor Road\, Hemingford Grey\, Huntingdon\, PE28 9BX
ORGANIZER;CN="Tour Secretary - Paul Costin":MAILTO:paulcostin@hotmail.co.uk
END:VEVENT
BEGIN:VEVENT
DTSTART;TZID=Europe/London:20260625T020000
DTEND;TZID=Europe/London:20260625T180000
DTSTAMP:20260420T210002
CREATED:20260203T211816Z
LAST-MODIFIED:20260203T222931Z
UID:2089-1782352800-1782410400@evpa.co.uk
SUMMARY:Bottisham BC
DESCRIPTION:
URL:https://evpa.co.uk/event/bottisham-bc/
LOCATION:Bottisham Bowls Club\, 33 Downing Close\, Bottisham\, Cambridgeshire\, CB25 9DD
ORGANIZER;CN="Tour Secretary - Paul Costin":MAILTO:paulcostin@hotmail.co.uk
END:VEVENT
BEGIN:VEVENT
DTSTART;TZID=Europe/London:20260626T140000
DTEND;TZID=Europe/London:20260626T180000
DTSTAMP:20260420T210002
CREATED:20260203T212233Z
LAST-MODIFIED:20260203T222833Z
UID:2091-1782482400-1782496800@evpa.co.uk
SUMMARY:St Neots BC
DESCRIPTION:
URL:https://evpa.co.uk/event/st-neots-bc/
LOCATION:St Neots BC\, 26 St Anselm Place\, St Neots\, Cambridgeshire\, PE19 1AP
ORGANIZER;CN="Tour Secretary - Paul Costin":MAILTO:paulcostin@hotmail.co.uk
END:VEVENT
BEGIN:VEVENT
DTSTART;TZID=Europe/London:20260702T140000
DTEND;TZID=Europe/London:20260702T180000
DTSTAMP:20260420T210002
CREATED:20251031T132922Z
LAST-MODIFIED:20251031T140532Z
UID:1960-1783000800-1783015200@evpa.co.uk
SUMMARY:West Mersea BC
DESCRIPTION:
URL:https://evpa.co.uk/event/west-mersea-bc-4/
LOCATION:West Mersea Bowling Club\, Colchester Road\, West Mersea\, CO5 8JZ
CATEGORIES:Outdoor Friendlies
ORGANIZER;CN="Match Secretary - Keith Jones":MAILTO:keithjones1956@live.co.uk
END:VEVENT
BEGIN:VEVENT
DTSTART;TZID=Europe/London:20260717T140000
DTEND;TZID=Europe/London:20260717T180000
DTSTAMP:20260420T210002
CREATED:20251031T133217Z
LAST-MODIFIED:20251031T140532Z
UID:1962-1784296800-1784311200@evpa.co.uk
SUMMARY:NW Essex BA
DESCRIPTION:
URL:https://evpa.co.uk/event/nw-essex-ba/
LOCATION:Dunmow BC\, St Edmonds Lane\, Dunmow\, CM6 3AT
CATEGORIES:Outdoor Friendlies
ORGANIZER;CN="Match Secretary - Keith Jones":MAILTO:keithjones1956@live.co.uk
END:VEVENT
BEGIN:VEVENT
DTSTART;TZID=Europe/London:20260723T140000
DTEND;TZID=Europe/London:20260723T180000
DTSTAMP:20260420T210002
CREATED:20251031T133546Z
LAST-MODIFIED:20251031T140030Z
UID:1964-1784815200-1784829600@evpa.co.uk
SUMMARY:Colchester Borough BA
DESCRIPTION:
URL:https://evpa.co.uk/event/colchester-borough-ba-2/
LOCATION:Colchester West End BC\, 23 Fitzgilbert Rd\, Colchester\, CO2 7XB
CATEGORIES:Outdoor Friendlies
ORGANIZER;CN="Match Secretary - Keith Jones":MAILTO:keithjones1956@live.co.uk
END:VEVENT
BEGIN:VEVENT
DTSTART;TZID=Europe/London:20260730T140000
DTEND;TZID=Europe/London:20260730T180000
DTSTAMP:20260420T210002
CREATED:20251031T133816Z
LAST-MODIFIED:20251031T140030Z
UID:1966-1785420000-1785434400@evpa.co.uk
SUMMARY:Group 2
DESCRIPTION:
URL:https://evpa.co.uk/event/group-2-5/
LOCATION:Silver End Bowls Club\, The Pavillion\, Broadway\,\, Silver End\, Witham\, CM8 3RQ
CATEGORIES:Outdoor Friendlies
ORGANIZER;CN="Match Secretary - Keith Jones":MAILTO:keithjones1956@live.co.uk
END:VEVENT
BEGIN:VEVENT
DTSTART;TZID=Europe/London:20260804T140000
DTEND;TZID=Europe/London:20260804T180000
DTSTAMP:20260420T210002
CREATED:20251031T134151Z
LAST-MODIFIED:20251031T140532Z
UID:1968-1785852000-1785866400@evpa.co.uk
SUMMARY:Group 5
DESCRIPTION:
URL:https://evpa.co.uk/event/group-5-5/
LOCATION:Hainault Bowls Club\, Hainault Recreation Ground\, Forest Road\, Ilford\, IG6 3HJ
CATEGORIES:Outdoor Friendlies
ORGANIZER;CN="Match Secretary - Keith Jones":MAILTO:keithjones1956@live.co.uk
END:VEVENT
BEGIN:VEVENT
DTSTART;TZID=Europe/London:20260814T140000
DTEND;TZID=Europe/London:20260814T180000
DTSTAMP:20260420T210002
CREATED:20251031T134905Z
LAST-MODIFIED:20251031T140030Z
UID:1970-1786716000-1786730400@evpa.co.uk
SUMMARY:Frinton BC
DESCRIPTION:
URL:https://evpa.co.uk/event/frinton-bc-3/
LOCATION:Frinton Bowling Club\, Playfields\, Jubilee Way\, Frinton-on-Sea\, Essex\, CO13 0AP
CATEGORIES:Outdoor Friendlies
ORGANIZER;CN="Match Secretary - Keith Jones":MAILTO:keithjones1956@live.co.uk
END:VEVENT
BEGIN:VEVENT
DTSTART;TZID=Europe/London:20260820T140000
DTEND;TZID=Europe/London:20260820T180000
DTSTAMP:20260420T210002
CREATED:20251031T135221Z
LAST-MODIFIED:20251031T140030Z
UID:1972-1787234400-1787248800@evpa.co.uk
SUMMARY:President's Day
DESCRIPTION:
URL:https://evpa.co.uk/event/presidents-day-5/
LOCATION:Dunmow BC\, St Edmonds Lane\, Dunmow\, CM6 3AT
CATEGORIES:Outdoor Friendlies
END:VEVENT
BEGIN:VEVENT
DTSTART;TZID=Europe/London:20260827T140000
DTEND;TZID=Europe/London:20260827T180000
DTSTAMP:20260420T210002
CREATED:20251031T135614Z
LAST-MODIFIED:20251031T140030Z
UID:1974-1787839200-1787853600@evpa.co.uk
SUMMARY:Hockley BC
DESCRIPTION:
URL:https://evpa.co.uk/event/hockley-bc-2/
LOCATION:Hockley BC\, Highams Rd\, Hockley\, Essex\, SS5 4DG
CATEGORIES:Outdoor Friendlies
ORGANIZER;CN="Match Secretary - Keith Jones":MAILTO:keithjones1956@live.co.uk
END:VEVENT
BEGIN:VEVENT
DTSTART;TZID=Europe/London:20260901T140000
DTEND;TZID=Europe/London:20260901T180000
DTSTAMP:20260420T210002
CREATED:20251031T144315Z
LAST-MODIFIED:20251031T144709Z
UID:1976-1788271200-1788285600@evpa.co.uk
SUMMARY:Group 9
DESCRIPTION:
URL:https://evpa.co.uk/event/group-9-4/
LOCATION:Aveley Bowls Club\, Recreation Ground\, High Street\, South Ockendon\, Essex\, RM15 4BX
ORGANIZER;CN="Match Secretary - Keith Jones":MAILTO:keithjones1956@live.co.uk
END:VEVENT
BEGIN:VEVENT
DTSTART;TZID=Europe/London:20260908T140000
DTEND;TZID=Europe/London:20260908T180000
DTSTAMP:20260420T210002
CREATED:20251031T145437Z
LAST-MODIFIED:20251031T145439Z
UID:1979-1788876000-1788890400@evpa.co.uk
SUMMARY:London Parks BA
DESCRIPTION:
URL:https://evpa.co.uk/event/london-parks-ba-3/
LOCATION:Wanstead Central BC\, Nutter Lane\, Wanstead\, E11 2JA
ORGANIZER;CN="Match Secretary - Keith Jones":MAILTO:keithjones1956@live.co.uk
END:VEVENT
BEGIN:VEVENT
DTSTART;TZID=Europe/London:20260915T020000
DTEND;TZID=Europe/London:20260915T180000
DTSTAMP:20260420T210002
CREATED:20251031T150609Z
LAST-MODIFIED:20251031T150610Z
UID:1981-1789437600-1789495200@evpa.co.uk
SUMMARY:Group 8
DESCRIPTION:
URL:https://evpa.co.uk/event/group-8-5/
LOCATION:Harlow Bowling Club\, 32B Terminus Street\, Harlow\, CM20 1EY
ORGANIZER;CN="Match Secretary - Keith Jones":MAILTO:keithjones1956@live.co.uk
END:VEVENT
BEGIN:VEVENT
DTSTART;TZID=Europe/London:20260920T140000
DTEND;TZID=Europe/London:20260920T180000
DTSTAMP:20260420T210002
CREATED:20251103T111252Z
LAST-MODIFIED:20251103T111300Z
UID:1986-1789912800-1789927200@evpa.co.uk
SUMMARY:Bowls England Disabled
DESCRIPTION:
URL:https://evpa.co.uk/event/bowls-england-disabled/
LOCATION:Falcon IBC\, Channels Drive\, Broomfield\, Chelmsford\, CM3 3FB
ORGANIZER;CN="Match Secretary - Keith Jones":MAILTO:keithjones1956@live.co.uk
END:VEVENT
BEGIN:VEVENT
DTSTART;TZID=Europe/London:20261007T140000
DTEND;TZID=Europe/London:20261007T180000
DTSTAMP:20260420T210002
CREATED:20251031T150938Z
LAST-MODIFIED:20251031T150942Z
UID:1983-1791381600-1791396000@evpa.co.uk
SUMMARY:Basildon & District BA
DESCRIPTION:
URL:https://evpa.co.uk/event/basildon-district-ba/
LOCATION:Essex County Bowling Indoor Club\, 21 Imperial Avenue\, Westcliff-On-Sea\, SS0 8NE\, United Kingdom
ORGANIZER;CN="Match Secretary - Keith Jones":MAILTO:keithjones1956@live.co.uk
END:VEVENT
BEGIN:VEVENT
DTSTART;TZID=Europe/London:20261015T140000
DTEND;TZID=Europe/London:20261015T180000
DTSTAMP:20260420T210002
CREATED:20251103T111820Z
LAST-MODIFIED:20251103T111834Z
UID:1988-1792072800-1792087200@evpa.co.uk
SUMMARY:Chigwell IBC
DESCRIPTION:
URL:https://evpa.co.uk/event/chigwell-ibc-5/
LOCATION:Chigwell IBC\, David Lloyd Leisure Centre\, Roding Lane\, Buckhurst Hill Chigwell\, IG9 6BJ
ORGANIZER;CN="Match Secretary - Keith Jones":MAILTO:keithjones1956@live.co.uk
END:VEVENT
BEGIN:VEVENT
DTSTART;TZID=Europe/London:20261022T020000
DTEND;TZID=Europe/London:20261022T180000
DTSTAMP:20260420T210002
CREATED:20251103T115904Z
LAST-MODIFIED:20251103T115939Z
UID:1994-1792634400-1792692000@evpa.co.uk
SUMMARY:Essex County IBA
DESCRIPTION:
URL:https://evpa.co.uk/event/essex-county-iba-5/
LOCATION:Colchester IBC\, Fitzgilbert Road\, Colchester\, CO2 7XB
ORGANIZER;CN="Match Secretary - Keith Jones":MAILTO:keithjones1956@live.co.uk
END:VEVENT
END:VCALENDAR