BEGIN:VCALENDAR
VERSION:2.0
PRODID:-//Essex Vice Presidents Association - ECPv6.15.20//NONSGML v1.0//EN
CALSCALE:GREGORIAN
METHOD:PUBLISH
X-WR-CALNAME:Essex Vice Presidents Association
X-ORIGINAL-URL:https://evpa.co.uk
X-WR-CALDESC:Events for Essex Vice Presidents Association
REFRESH-INTERVAL;VALUE=DURATION:PT1H
X-Robots-Tag:noindex
X-PUBLISHED-TTL:PT1H
BEGIN:VTIMEZONE
TZID:Europe/London
BEGIN:DAYLIGHT
TZOFFSETFROM:+0000
TZOFFSETTO:+0100
TZNAME:BST
DTSTART:20220327T010000
END:DAYLIGHT
BEGIN:STANDARD
TZOFFSETFROM:+0100
TZOFFSETTO:+0000
TZNAME:GMT
DTSTART:20221030T010000
END:STANDARD
BEGIN:DAYLIGHT
TZOFFSETFROM:+0000
TZOFFSETTO:+0100
TZNAME:BST
DTSTART:20230326T010000
END:DAYLIGHT
BEGIN:STANDARD
TZOFFSETFROM:+0100
TZOFFSETTO:+0000
TZNAME:GMT
DTSTART:20231029T010000
END:STANDARD
BEGIN:DAYLIGHT
TZOFFSETFROM:+0000
TZOFFSETTO:+0100
TZNAME:BST
DTSTART:20240331T010000
END:DAYLIGHT
BEGIN:STANDARD
TZOFFSETFROM:+0100
TZOFFSETTO:+0000
TZNAME:GMT
DTSTART:20241027T010000
END:STANDARD
BEGIN:DAYLIGHT
TZOFFSETFROM:+0000
TZOFFSETTO:+0100
TZNAME:BST
DTSTART:20250330T010000
END:DAYLIGHT
BEGIN:STANDARD
TZOFFSETFROM:+0100
TZOFFSETTO:+0000
TZNAME:GMT
DTSTART:20251026T010000
END:STANDARD
END:VTIMEZONE
BEGIN:VEVENT
DTSTART;TZID=Europe/London:20240320T143000
DTEND;TZID=Europe/London:20240320T170000
DTSTAMP:20260420T235502
CREATED:20231027T204826Z
LAST-MODIFIED:20231030T140412Z
UID:1122-1710945000-1710954000@evpa.co.uk
SUMMARY:Jacks Centre IBC
DESCRIPTION:
URL:https://evpa.co.uk/event/jacks-centre-ibc-3/
LOCATION:Jacks Centre IBC\, Burnham Road\, \,Latchingdon\, CM3 6EX
CATEGORIES:Indoor Friendlies
ORGANIZER;CN="Match Secretary - Keith Jones":MAILTO:keithjones1956@live.co.uk
END:VEVENT
BEGIN:VEVENT
DTSTART;TZID=Europe/London:20240314T020000
DTEND;TZID=Europe/London:20240314T190000
DTSTAMP:20260420T235502
CREATED:20231027T202540Z
LAST-MODIFIED:20240313T210709Z
UID:1114-1710381600-1710442800@evpa.co.uk
SUMMARY:Havering IBC
DESCRIPTION:
URL:https://evpa.co.uk/event/haveribg-ibc/
LOCATION:Havering Indoor Bowls Club\, Harrow Lodge Park Hornchurch Road\, Hornchurch\, RM11 1JU
CATEGORIES:Indoor Friendlies
ORGANIZER;CN="Match Secretary - Keith Jones":MAILTO:keithjones1956@live.co.uk
END:VEVENT
BEGIN:VEVENT
DTSTART;TZID=Europe/London:20240228T133000
DTEND;TZID=Europe/London:20240228T183000
DTSTAMP:20260420T235502
CREATED:20231027T192303Z
LAST-MODIFIED:20231027T193139Z
UID:1103-1709127000-1709145000@evpa.co.uk
SUMMARY:Tye Green IBC
DESCRIPTION:6 rinks
URL:https://evpa.co.uk/event/tye-greem-ibc/
LOCATION:Tye Green IBC\, Tilegate Road\, Harlow\, CM18 6LU
CATEGORIES:Indoor Friendlies
ORGANIZER;CN="Fixture Secretary - Ray Woollard":MAILTO:rwoollard@gmail.com
END:VEVENT
BEGIN:VEVENT
DTSTART;TZID=Europe/London:20240220T140000
DTEND;TZID=Europe/London:20240220T190000
DTSTAMP:20260420T235502
CREATED:20231027T190223Z
LAST-MODIFIED:20231109T223035Z
UID:1100-1708437600-1708455600@evpa.co.uk
SUMMARY:Colchester IBC
DESCRIPTION:
URL:https://evpa.co.uk/event/colchester-ibc-3/
LOCATION:Colchester IBC\, Fitzgilbert Road\, Colchester\, CO2 7XB
CATEGORIES:Indoor Friendlies
ORGANIZER;CN="Fixture Secretary - Ray Woollard":MAILTO:rwoollard@gmail.com
END:VEVENT
BEGIN:VEVENT
DTSTART;TZID=Europe/London:20240214T141500
DTEND;TZID=Europe/London:20240214T190000
DTSTAMP:20260420T235502
CREATED:20231027T123424Z
LAST-MODIFIED:20231027T185614Z
UID:1095-1707920100-1707937200@evpa.co.uk
SUMMARY:Falcon IBC
DESCRIPTION:
URL:https://evpa.co.uk/event/falcon-ibc-3/
CATEGORIES:Indoor Friendlies
ORGANIZER;CN="Fixture Secretary - Ray Woollard":MAILTO:rwoollard@gmail.com
END:VEVENT
BEGIN:VEVENT
DTSTART;TZID=Europe/London:20240131T143000
DTEND;TZID=Europe/London:20240131T190000
DTSTAMP:20260420T235502
CREATED:20231027T122231Z
LAST-MODIFIED:20231027T123549Z
UID:1091-1706711400-1706727600@evpa.co.uk
SUMMARY:Ilford IBC
DESCRIPTION:
URL:https://evpa.co.uk/event/ilford-ibc/
LOCATION:Ilford and District IBC\, Perrymans Farm Rd\, Ilford\, IG2 7LX
CATEGORIES:Indoor Friendlies
END:VEVENT
BEGIN:VEVENT
DTSTART;TZID=Europe/London:20240124T141500
DTEND;TZID=Europe/London:20240124T190000
DTSTAMP:20260420T235502
CREATED:20231027T121301Z
LAST-MODIFIED:20231210T183810Z
UID:1089-1706105700-1706122800@evpa.co.uk
SUMMARY:London Parks Secretaries Association (SCRIBOS)
DESCRIPTION:
URL:https://evpa.co.uk/event/london-b-sec-ass/
CATEGORIES:Indoor Friendlies
END:VEVENT
BEGIN:VEVENT
DTSTART;TZID=Europe/London:20240117T140000
DTEND;TZID=Europe/London:20240117T190000
DTSTAMP:20260420T235502
CREATED:20231027T115514Z
LAST-MODIFIED:20231109T222857Z
UID:1087-1705500000-1705518000@evpa.co.uk
SUMMARY:Essex County IBC
DESCRIPTION:
URL:https://evpa.co.uk/event/essex-county-ibc-3/
LOCATION:Essex County Bowling Indoor Club\, 21 Imperial Avenue\, Westcliff-On-Sea\, SS0 8NE\, United Kingdom
CATEGORIES:Indoor Friendlies
END:VEVENT
BEGIN:VEVENT
DTSTART;TZID=Europe/London:20231109T143000
DTEND;TZID=Europe/London:20231109T190000
DTSTAMP:20260420T235502
CREATED:20231008T223650Z
LAST-MODIFIED:20231008T225540Z
UID:1068-1699540200-1699556400@evpa.co.uk
SUMMARY:Clacton IBC
DESCRIPTION:Clacton Indoor Bowling Club
URL:https://evpa.co.uk/event/clacton-ibc-2/
LOCATION:Clacton IBC\, Marine Parade West\, Collingwood road\, Clacton-on-Sea\, CO15 1UL
CATEGORIES:Indoor Friendlies
END:VEVENT
BEGIN:VEVENT
DTSTART;TZID=Europe/London:20231026T140000
DTEND;TZID=Europe/London:20231026T190000
DTSTAMP:20260420T235502
CREATED:20230326T200655Z
LAST-MODIFIED:20230326T204528Z
UID:894-1698328800-1698346800@evpa.co.uk
SUMMARY:Essex County IBA
DESCRIPTION:6 Rinks \n\n\n\n\n\n\n\n\n\nwhat3words /// tamed.certified.garage
URL:https://evpa.co.uk/event/essex-county-iba-2/
LOCATION:Colchester IBC\, Fitzgilbert Road\, Colchester\, CO2 7XB
CATEGORIES:Indoor Friendlies
END:VEVENT
BEGIN:VEVENT
DTSTART;TZID=Europe/London:20231019T140000
DTEND;TZID=Europe/London:20231019T190000
DTSTAMP:20260420T235502
CREATED:20231008T224610Z
LAST-MODIFIED:20231008T225507Z
UID:1073-1697724000-1697742000@evpa.co.uk
SUMMARY:Chigwell IBC
DESCRIPTION:
URL:https://evpa.co.uk/event/chigwell-ibc-2/
LOCATION:Chigwell IBC\, David Lloyd Leisure Centre\, Roding Lane\, Buckhurst Hill Chigwell\, IG9 6BJ
CATEGORIES:Indoor Friendlies
END:VEVENT
BEGIN:VEVENT
DTSTART;TZID=Europe/London:20231011T141500
DTEND;TZID=Europe/London:20231011T190000
DTSTAMP:20260420T235502
CREATED:20231008T230830Z
LAST-MODIFIED:20231008T230831Z
UID:1077-1697033700-1697050800@evpa.co.uk
SUMMARY:Turpins IBC
DESCRIPTION:
URL:https://evpa.co.uk/event/turpins-ibc-2/
LOCATION:Turpins Indoor Bowling Club\, Peaslands Road\, Saffron Walden\, CB11 3EG
CATEGORIES:Indoor Friendlies
END:VEVENT
BEGIN:VEVENT
DTSTART;TZID=Europe/London:20230814T140000
DTEND;TZID=Europe/London:20230814T183000
DTSTAMP:20260420T235502
CREATED:20230626T193854Z
LAST-MODIFIED:20230626T194729Z
UID:992-1692021600-1692037800@evpa.co.uk
SUMMARY:President's Day
DESCRIPTION:
URL:https://evpa.co.uk/event/presidents-day-2/
LOCATION:Frinton Bowling Club\, Playfields\, Jubilee Way\, Frinton-on-Sea\, Essex\, CO13 0AP
CATEGORIES:Outdoor Friendlies
END:VEVENT
BEGIN:VEVENT
DTSTART;TZID=Europe/London:20230808T140000
DTEND;TZID=Europe/London:20230808T183000
DTSTAMP:20260420T235502
CREATED:20230626T192031Z
LAST-MODIFIED:20230626T192650Z
UID:990-1691503200-1691519400@evpa.co.uk
SUMMARY:Group 5
DESCRIPTION:
URL:https://evpa.co.uk/event/group-5-2/
LOCATION:Aldersbrook Bowls Club\, 34 Aldersbrook Road\, London\, E12 5DY
CATEGORIES:Outdoor Friendlies
END:VEVENT
BEGIN:VEVENT
DTSTART;TZID=Europe/London:20230801T140000
DTEND;TZID=Europe/London:20230801T183000
DTSTAMP:20260420T235502
CREATED:20230626T191743Z
LAST-MODIFIED:20230626T192705Z
UID:988-1690898400-1690914600@evpa.co.uk
SUMMARY:Group 8
DESCRIPTION:
URL:https://evpa.co.uk/event/group-8-2/
LOCATION:Harlow Bowling Club\, 32B Terminus Street\, Harlow\, CM20 1EY
CATEGORIES:Outdoor Friendlies
ORGANIZER;CN="Fixture Secretary - Ray Woollard":MAILTO:rwoollard@gmail.com
END:VEVENT
BEGIN:VEVENT
DTSTART;TZID=Europe/London:20230727T140000
DTEND;TZID=Europe/London:20230727T180000
DTSTAMP:20260420T235502
CREATED:20230626T191452Z
LAST-MODIFIED:20230626T192722Z
UID:986-1690466400-1690480800@evpa.co.uk
SUMMARY:Group 6
DESCRIPTION:
URL:https://evpa.co.uk/event/group-6-2/
LOCATION:Essex County Bowling Club\, 21 Imperial Avenue\, Westcliff-on-Sea\, SS0 8NE
CATEGORIES:Outdoor Friendlies
END:VEVENT
BEGIN:VEVENT
DTSTART;TZID=Europe/London:20230723T140000
DTEND;TZID=Europe/London:20230723T183000
DTSTAMP:20260420T235502
CREATED:20230626T120844Z
LAST-MODIFIED:20230626T192741Z
UID:980-1690120800-1690137000@evpa.co.uk
SUMMARY:Woodford BC (Centenary Match)
DESCRIPTION:Woodford Centenary match
URL:https://evpa.co.uk/event/woodford-bc-centenary/
LOCATION:Woodford Bowling Club\, 65 King's Ave\, Woodford Green\, IG8 0JA
CATEGORIES:Outdoor Friendlies
ORGANIZER;CN="Fixture Secretary - Ray Woollard":MAILTO:rwoollard@gmail.com
END:VEVENT
BEGIN:VEVENT
DTSTART;TZID=Europe/London:20230718T140000
DTEND;TZID=Europe/London:20230718T190000
DTSTAMP:20260420T235502
CREATED:20230326T115003Z
LAST-MODIFIED:20230626T192757Z
UID:888-1689688800-1689706800@evpa.co.uk
SUMMARY:NWE BA
DESCRIPTION:
URL:https://evpa.co.uk/event/nwe-ba/
LOCATION:Dunmow BC\, St Edmonds Lane\, Dunmow\, CM6 3AT
CATEGORIES:Outdoor Friendlies
END:VEVENT
BEGIN:VEVENT
DTSTART;TZID=Europe/London:20230707T120000
DTEND;TZID=Europe/London:20230707T120000
DTSTAMP:20260420T235502
CREATED:20230506T232203Z
LAST-MODIFIED:20230506T233324Z
UID:939-1688731200-1688731200@evpa.co.uk
SUMMARY:Kent Tour - Maidstone Bowls Club
DESCRIPTION:Kent Tour
URL:https://evpa.co.uk/event/maidstone-bowls-club/
LOCATION:Maidstone Bowls Club\, Leafy Lane\, Maidstone\, ME16 0DT
CATEGORIES:Tour
ORGANIZER;CN="Tour Secretary - Paul Costin":MAILTO:paulcostin@hotmail.co.uk
END:VEVENT
BEGIN:VEVENT
DTSTART;TZID=Europe/London:20230705T120000
DTEND;TZID=Europe/London:20230705T120000
DTSTAMP:20260420T235502
CREATED:20230506T232021Z
LAST-MODIFIED:20230506T233335Z
UID:937-1688558400-1688558400@evpa.co.uk
SUMMARY:Kent Tour - Chatham Bowls Club
DESCRIPTION:
URL:https://evpa.co.uk/event/chatham-bowls-club/
LOCATION:Chatham Bowls Club\, Palmerston Road\, Chatham\, ME4 6NE
CATEGORIES:Tour
ORGANIZER;CN="Tour Secretary - Paul Costin":MAILTO:paulcostin@hotmail.co.uk
END:VEVENT
BEGIN:VEVENT
DTSTART;TZID=Europe/London:20230704T120000
DTEND;TZID=Europe/London:20230704T120000
DTSTAMP:20260420T235502
CREATED:20230506T233032Z
LAST-MODIFIED:20230506T233344Z
UID:947-1688472000-1688472000@evpa.co.uk
SUMMARY:Kent Tour - Canterbury Bowls Club
DESCRIPTION:
URL:https://evpa.co.uk/event/kent-tour-canterbury-bowls-club/
LOCATION:Canterbury Bowls Club\, South Canterbury Road\, Canterbury\, CT1 3LJ
CATEGORIES:Tour
ORGANIZER;CN="Tour Secretary - Paul Costin":MAILTO:paulcostin@hotmail.co.uk
END:VEVENT
BEGIN:VEVENT
DTSTART;TZID=Europe/London:20230703T120000
DTEND;TZID=Europe/London:20230703T120000
DTSTAMP:20260420T235502
CREATED:20230506T234506Z
LAST-MODIFIED:20230506T234656Z
UID:951-1688385600-1688385600@evpa.co.uk
SUMMARY:Kent Tour - Faversham Bowling Club
DESCRIPTION:
URL:https://evpa.co.uk/event/kent-tour-faversham-bowling-club/
LOCATION:Faversham BC\, Faversham Recreation Ground\, Park Road\, Faversham\, ME13 8ES
ORGANIZER;CN="Tour Secretary - Paul Costin":MAILTO:paulcostin@hotmail.co.uk
END:VEVENT
BEGIN:VEVENT
DTSTART;TZID=Europe/London:20230702T120000
DTEND;TZID=Europe/London:20230702T120000
DTSTAMP:20260420T235502
CREATED:20230506T223746Z
LAST-MODIFIED:20230506T233358Z
UID:918-1688299200-1688299200@evpa.co.uk
SUMMARY:Kent Tour - Aylesham BC
DESCRIPTION:
URL:https://evpa.co.uk/event/aylesham-bc/
LOCATION:Aylesham BC\, Aylesham Road\, Aylesham\, Kent\, CT3 3AF
CATEGORIES:Tour
ORGANIZER;CN="Tour Secretary - Paul Costin":MAILTO:paulcostin@hotmail.co.uk
END:VEVENT
BEGIN:VEVENT
DTSTART;TZID=Europe/London:20230626T140000
DTEND;TZID=Europe/London:20230626T190000
DTSTAMP:20260420T235502
CREATED:20230322T003648Z
LAST-MODIFIED:20230322T003659Z
UID:879-1687788000-1687806000@evpa.co.uk
SUMMARY:West Mersea BC
DESCRIPTION:
URL:https://evpa.co.uk/event/west-mersea-bc-2/
LOCATION:West Mersea Bowling Club\, Colchester Road\, West Mersea\, CO5 8JZ
ORGANIZER;CN="Fixture Secretary - Ray Woollard":MAILTO:rwoollard@gmail.com
END:VEVENT
BEGIN:VEVENT
DTSTART;TZID=Europe/London:20230622T140000
DTEND;TZID=Europe/London:20230622T140000
DTSTAMP:20260420T235502
CREATED:20221204T180315Z
LAST-MODIFIED:20221204T180842Z
UID:611-1687442400-1687442400@evpa.co.uk
SUMMARY:Group 4
DESCRIPTION:
URL:https://evpa.co.uk/event/group-4-2/
LOCATION:Haynes Park Bowling Club\, Slewins Lane\, Hornchurch\, RM11 2BZ
ORGANIZER;CN="Fixture Secretary - Ray Woollard":MAILTO:rwoollard@gmail.com
END:VEVENT
BEGIN:VEVENT
DTSTART;TZID=Europe/London:20230613T140000
DTEND;TZID=Europe/London:20230613T190000
DTSTAMP:20260420T235502
CREATED:20221204T175942Z
LAST-MODIFIED:20221204T175944Z
UID:609-1686664800-1686682800@evpa.co.uk
SUMMARY:Essex County Bowling Association
DESCRIPTION:
URL:https://evpa.co.uk/event/essex-county-bowling-association-2/
LOCATION:Falcon BC\, Channels Dr\,\, Chelmsford\, CM3 3FB
ORGANIZER;CN="Fixture Secretary - Ray Woollard":MAILTO:rwoollard@gmail.com
END:VEVENT
BEGIN:VEVENT
DTSTART;TZID=Europe/London:20230605T140000
DTEND;TZID=Europe/London:20230605T190000
DTSTAMP:20260420T235502
CREATED:20221204T175641Z
LAST-MODIFIED:20221204T175646Z
UID:603-1685973600-1685991600@evpa.co.uk
SUMMARY:Group 3
DESCRIPTION:
URL:https://evpa.co.uk/event/group-3-2/
LOCATION:R H P Bowls Club\, Canterbury Way\, St Fabian’s Drive\, Chelmsford\, CM1 2XN :
ORGANIZER;CN="Fixture Secretary - Ray Woollard":MAILTO:rwoollard@gmail.com
END:VEVENT
BEGIN:VEVENT
DTSTART;TZID=Europe/London:20230601T020000
DTEND;TZID=Europe/London:20230601T190000
DTSTAMP:20260420T235502
CREATED:20221204T162354Z
LAST-MODIFIED:20221204T174615Z
UID:600-1685584800-1685646000@evpa.co.uk
SUMMARY:Essex County Bowls Club
DESCRIPTION:
URL:https://evpa.co.uk/event/essex-county-bowls-club/
LOCATION:Essex County Bowling Club\, 21 Imperial Avenue\, Westcliff-on-Sea\, SS0 8NE
CATEGORIES:Outdoor Friendlies
ORGANIZER;CN="Fixture Secretary - Ray Woollard":MAILTO:rwoollard@gmail.com
END:VEVENT
BEGIN:VEVENT
DTSTART;TZID=Europe/London:20230522T140000
DTEND;TZID=Europe/London:20230522T190000
DTSTAMP:20260420T235502
CREATED:20221204T161414Z
LAST-MODIFIED:20221204T161815Z
UID:597-1684764000-1684782000@evpa.co.uk
SUMMARY:Walthamstow. & District BA
DESCRIPTION:
URL:https://evpa.co.uk/event/walthamstow-district-ba/
LOCATION:Buckhurst Hill Bowling and Lawn Tennis Club\, 72 Epping New Road\, Buckhurst Hill\, IG9 5TX
CATEGORIES:Outdoor Friendlies
ORGANIZER;CN="Fixture Secretary - Ray Woollard":MAILTO:rwoollard@gmail.com
END:VEVENT
BEGIN:VEVENT
DTSTART;TZID=Europe/London:20230519T140000
DTEND;TZID=Europe/London:20230519T200000
DTSTAMP:20260420T235502
CREATED:20221204T160818Z
LAST-MODIFIED:20221204T161628Z
UID:593-1684504800-1684526400@evpa.co.uk
SUMMARY:Essex Past Presidents
DESCRIPTION:
URL:https://evpa.co.uk/event/essex-past-presidents-2/
LOCATION:Maldon Bowls Club\, Park Drive\, Maldon\, CM9 5JG
CATEGORIES:Outdoor Friendlies
ORGANIZER;CN="Fixture Secretary - Ray Woollard":MAILTO:rwoollard@gmail.com
END:VEVENT
END:VCALENDAR