BEGIN:VCALENDAR
VERSION:2.0
PRODID:-//Essex Vice Presidents Association - ECPv6.15.20//NONSGML v1.0//EN
CALSCALE:GREGORIAN
METHOD:PUBLISH
X-WR-CALNAME:Essex Vice Presidents Association
X-ORIGINAL-URL:https://evpa.co.uk
X-WR-CALDESC:Events for Essex Vice Presidents Association
REFRESH-INTERVAL;VALUE=DURATION:PT1H
X-Robots-Tag:noindex
X-PUBLISHED-TTL:PT1H
BEGIN:VTIMEZONE
TZID:Europe/London
BEGIN:DAYLIGHT
TZOFFSETFROM:+0000
TZOFFSETTO:+0100
TZNAME:BST
DTSTART:20230326T010000
END:DAYLIGHT
BEGIN:STANDARD
TZOFFSETFROM:+0100
TZOFFSETTO:+0000
TZNAME:GMT
DTSTART:20231029T010000
END:STANDARD
BEGIN:DAYLIGHT
TZOFFSETFROM:+0000
TZOFFSETTO:+0100
TZNAME:BST
DTSTART:20240331T010000
END:DAYLIGHT
BEGIN:STANDARD
TZOFFSETFROM:+0100
TZOFFSETTO:+0000
TZNAME:GMT
DTSTART:20241027T010000
END:STANDARD
BEGIN:DAYLIGHT
TZOFFSETFROM:+0000
TZOFFSETTO:+0100
TZNAME:BST
DTSTART:20250330T010000
END:DAYLIGHT
BEGIN:STANDARD
TZOFFSETFROM:+0100
TZOFFSETTO:+0000
TZNAME:GMT
DTSTART:20251026T010000
END:STANDARD
BEGIN:DAYLIGHT
TZOFFSETFROM:+0000
TZOFFSETTO:+0100
TZNAME:BST
DTSTART:20260329T010000
END:DAYLIGHT
BEGIN:STANDARD
TZOFFSETFROM:+0100
TZOFFSETTO:+0000
TZNAME:GMT
DTSTART:20261025T010000
END:STANDARD
END:VTIMEZONE
BEGIN:VEVENT
DTSTART;TZID=Europe/London:20250630T140000
DTEND;TZID=Europe/London:20250630T170000
DTSTAMP:20260420T192754
CREATED:20250402T193355Z
LAST-MODIFIED:20250702T115528Z
UID:1783-1751292000-1751302800@evpa.co.uk
SUMMARY:Holt Bowls Club
DESCRIPTION:Norfolk Tour
URL:https://evpa.co.uk/event/holt-bowls-club/
LOCATION:Holt Bowls Club\, Kelling Road\, Holt\, NR25 6TK
CATEGORIES:Tour
ORGANIZER;CN="Match Secretary - Keith Jones":MAILTO:keithjones1956@live.co.uk
END:VEVENT
BEGIN:VEVENT
DTSTART;TZID=Europe/London:20250629T130000
DTEND;TZID=Europe/London:20250629T170000
DTSTAMP:20260420T192754
CREATED:20250402T185429Z
LAST-MODIFIED:20250402T200227Z
UID:1779-1751202000-1751216400@evpa.co.uk
SUMMARY:County Arts Bowls Club
DESCRIPTION:Norfolk Tour
URL:https://evpa.co.uk/event/county-arts-bowls-club/
LOCATION:County Arts Bowls Club\, Plumstead Road East\, Thorpe St Andrew\, Norwich\, NR7 9ND
CATEGORIES:Tour
ORGANIZER;CN="Match Secretary - Keith Jones":MAILTO:keithjones1956@live.co.uk
END:VEVENT
BEGIN:VEVENT
DTSTART;TZID=Europe/London:20250623T120000
DTEND;TZID=Europe/London:20250623T120000
DTSTAMP:20260420T192754
CREATED:20241210T180137Z
LAST-MODIFIED:20250702T115549Z
UID:1541-1750680000-1750680000@evpa.co.uk
SUMMARY:West Mersea BC
DESCRIPTION:
URL:https://evpa.co.uk/event/west-mersea-bc-3/
LOCATION:West Mersea Bowling Club\, Colchester Road\, West Mersea\, CO5 8JZ
CATEGORIES:Outdoor Friendlies
ORGANIZER;CN="Match Secretary - Keith Jones":MAILTO:keithjones1956@live.co.uk
END:VEVENT
BEGIN:VEVENT
DTSTART;TZID=Europe/London:20250619T140000
DTEND;TZID=Europe/London:20250619T190000
DTSTAMP:20260420T192754
CREATED:20241210T173853Z
LAST-MODIFIED:20241210T175251Z
UID:1536-1750341600-1750359600@evpa.co.uk
SUMMARY:Group 4
DESCRIPTION:
URL:https://evpa.co.uk/event/group-4-4/
LOCATION:Haynes Park Bowling Club\, Slewins Lane\, Hornchurch\, RM11 2BZ
CATEGORIES:Outdoor Friendlies
ORGANIZER;CN="Match Secretary - Keith Jones":MAILTO:keithjones1956@live.co.uk
END:VEVENT
BEGIN:VEVENT
DTSTART;TZID=Europe/London:20250610T140000
DTEND;TZID=Europe/London:20250610T190000
DTSTAMP:20260420T192754
CREATED:20241122T171115Z
LAST-MODIFIED:20241210T175303Z
UID:1529-1749564000-1749582000@evpa.co.uk
SUMMARY:Essex County BA
DESCRIPTION:
URL:https://evpa.co.uk/event/essex-county-ba-2/
LOCATION:Clacton-on-Sea Bowling Club\, Collingwood Road\, Clacton-On-Sea\, CO15 1XB
CATEGORIES:Outdoor Friendlies
ORGANIZER;CN="Match Secretary - Keith Jones":MAILTO:keithjones1956@live.co.uk
END:VEVENT
BEGIN:VEVENT
DTSTART;TZID=Europe/London:20250602T140000
DTEND;TZID=Europe/London:20250602T190000
DTSTAMP:20260420T192754
CREATED:20241122T164602Z
LAST-MODIFIED:20241210T175313Z
UID:1527-1748872800-1748890800@evpa.co.uk
SUMMARY:Group 3
DESCRIPTION:
URL:https://evpa.co.uk/event/group-3-4/
LOCATION:RHP Bowls Club\, Canterbury Way\, St Fabians\, Chelmsford\, CM1 2XN
CATEGORIES:Outdoor Friendlies
ORGANIZER;CN="Match Secretary - Keith Jones":MAILTO:keithjones1956@live.co.uk
END:VEVENT
BEGIN:VEVENT
DTSTART;TZID=Europe/London:20250529T140000
DTEND;TZID=Europe/London:20250529T190000
DTSTAMP:20260420T192754
CREATED:20241122T153711Z
LAST-MODIFIED:20241210T175329Z
UID:1525-1748527200-1748545200@evpa.co.uk
SUMMARY:Essex County BC
DESCRIPTION:
URL:https://evpa.co.uk/event/essex-county-bc-2/
LOCATION:Essex County Bowling Club\, 21 Imperial Avenue\, Westcliff-on-Sea\, SS0 8NE
CATEGORIES:Outdoor Friendlies
ORGANIZER;CN="Match Secretary - Keith Jones":MAILTO:keithjones1956@live.co.uk
END:VEVENT
BEGIN:VEVENT
DTSTART;TZID=Europe/London:20250519T140000
DTEND;TZID=Europe/London:20250519T190000
DTSTAMP:20260420T192754
CREATED:20241121T185158Z
LAST-MODIFIED:20241122T122920Z
UID:1521-1747663200-1747681200@evpa.co.uk
SUMMARY:Witham BC
DESCRIPTION:
URL:https://evpa.co.uk/event/witham-bc/
LOCATION:Witham Bowls Club\, 14 Collingwood Road\, Witham\, CM8 2DY
CATEGORIES:Outdoor Friendlies
ORGANIZER;CN="Match Secretary - Keith Jones":MAILTO:keithjones1956@live.co.uk
END:VEVENT
BEGIN:VEVENT
DTSTART;TZID=Europe/London:20250512T140000
DTEND;TZID=Europe/London:20250512T190000
DTSTAMP:20260420T192754
CREATED:20241121T181744Z
LAST-MODIFIED:20250416T203912Z
UID:1513-1747058400-1747076400@evpa.co.uk
SUMMARY:Essex Past Presidents Association
DESCRIPTION:
URL:https://evpa.co.uk/event/essex-past-presidents-association/
LOCATION:Thorpe-le-Soken\, High Street\, Thorp-le-Soken\, CO16 0EA
CATEGORIES:Outdoor Friendlies
ORGANIZER;CN="Match Secretary - Keith Jones":MAILTO:keithjones1956@live.co.uk
END:VEVENT
BEGIN:VEVENT
DTSTART;TZID=Europe/London:20250508T140000
DTEND;TZID=Europe/London:20250508T190000
DTSTAMP:20260420T192754
CREATED:20241121T171242Z
LAST-MODIFIED:20241121T171624Z
UID:1506-1746712800-1746730800@evpa.co.uk
SUMMARY:Severalls BC
DESCRIPTION:Severalls BC
URL:https://evpa.co.uk/event/1506/
LOCATION:Severalls\, Kirby Drive off Mill Road\, Colchester\, Essex\, CO4 5LJ
CATEGORIES:Outdoor Friendlies
ORGANIZER;CN="Match Secretary - Keith Jones":MAILTO:keithjones1956@live.co.uk
END:VEVENT
BEGIN:VEVENT
DTSTART;TZID=Europe/London:20250326T060000
DTEND;TZID=Europe/London:20250326T063000
DTSTAMP:20260420T192754
CREATED:20241020T201727Z
LAST-MODIFIED:20241020T201852Z
UID:1458-1742968800-1742970600@evpa.co.uk
SUMMARY:West Mersea IBC
DESCRIPTION:
URL:https://evpa.co.uk/event/west-mersea-ibc-3/
LOCATION:West Mersea IBC\, Colchester Road\, West Mersea\, CO5 8JZ
CATEGORIES:Indoor Friendlies
ORGANIZER;CN="Match Secretary - Keith Jones":MAILTO:keithjones1956@live.co.uk
END:VEVENT
BEGIN:VEVENT
DTSTART;TZID=Europe/London:20250314T140000
DTEND;TZID=Europe/London:20250314T190000
DTSTAMP:20260420T192754
CREATED:20241020T201527Z
LAST-MODIFIED:20241020T202235Z
UID:1456-1741960800-1741978800@evpa.co.uk
SUMMARY:Jacks Centre IBC
DESCRIPTION:
URL:https://evpa.co.uk/event/jacks-centre-ibc-4/
LOCATION:Jacks Centre IBC\, Burnham Road\, \,Latchingdon\, CM3 6EX
CATEGORIES:Indoor Friendlies
ORGANIZER;CN="Match Secretary - Keith Jones":MAILTO:keithjones1956@live.co.uk
END:VEVENT
BEGIN:VEVENT
DTSTART;TZID=Europe/London:20250301T120000
DTEND;TZID=Europe/London:20250301T120000
DTSTAMP:20260420T192754
CREATED:20241020T200043Z
LAST-MODIFIED:20241020T202246Z
UID:1452-1740830400-1740830400@evpa.co.uk
SUMMARY:Havering IBC date TBC
DESCRIPTION:date to be confirmed
URL:https://evpa.co.uk/event/havering-ibc-2/
LOCATION:Havering Indoor Bowls Club\, Harrow Lodge Park Hornchurch Road\, Hornchurch\, RM11 1JU
CATEGORIES:Indoor Friendlies
ORGANIZER;CN="Match Secretary - Keith Jones":MAILTO:keithjones1956@live.co.uk
END:VEVENT
BEGIN:VEVENT
DTSTART;TZID=Europe/London:20250226T133000
DTEND;TZID=Europe/London:20250226T183000
DTSTAMP:20260420T192754
CREATED:20241020T195433Z
LAST-MODIFIED:20241020T202255Z
UID:1450-1740576600-1740594600@evpa.co.uk
SUMMARY:Tye Green IBC
DESCRIPTION:
URL:https://evpa.co.uk/event/tye-green-ibc-3/
LOCATION:Tye Green IBC\, Tilegate Road\, Harlow\, CM18 6LU
CATEGORIES:Indoor Friendlies
ORGANIZER;CN="Match Secretary - Keith Jones":MAILTO:keithjones1956@live.co.uk
END:VEVENT
BEGIN:VEVENT
DTSTART;TZID=Europe/London:20250218T140000
DTEND;TZID=Europe/London:20250218T190000
DTSTAMP:20260420T192754
CREATED:20241020T195121Z
LAST-MODIFIED:20241020T202306Z
UID:1448-1739887200-1739905200@evpa.co.uk
SUMMARY:Colchester IBC
DESCRIPTION:
URL:https://evpa.co.uk/event/colchester-ibc-4/
LOCATION:Colchester IBC\, Fitzgilbert Road\, Colchester\, CO2 7XB
CATEGORIES:Indoor Friendlies
ORGANIZER;CN="Match Secretary - Keith Jones":MAILTO:keithjones1956@live.co.uk
END:VEVENT
BEGIN:VEVENT
DTSTART;TZID=Europe/London:20250205T141500
DTEND;TZID=Europe/London:20250205T190000
DTSTAMP:20260420T192754
CREATED:20241020T193534Z
LAST-MODIFIED:20241104T220912Z
UID:1440-1738764900-1738782000@evpa.co.uk
SUMMARY:Falcon IBC
DESCRIPTION:
URL:https://evpa.co.uk/event/falcon-ibc-4/
LOCATION:Essex
CATEGORIES:Indoor Friendlies
ORGANIZER;CN="Match Secretary - Keith Jones":MAILTO:keithjones1956@live.co.uk
END:VEVENT
BEGIN:VEVENT
DTSTART;TZID=Europe/London:20250129T143000
DTEND;TZID=Europe/London:20250129T190000
DTSTAMP:20260420T192754
CREATED:20241020T194854Z
LAST-MODIFIED:20241020T202344Z
UID:1446-1738161000-1738177200@evpa.co.uk
SUMMARY:Ilford IBC
DESCRIPTION:
URL:https://evpa.co.uk/event/ilford-ibc-2/
LOCATION:Ilford and District IBC\, Perrymans Farm Rd\, Ilford\, IG2 7LX
CATEGORIES:Indoor Friendlies
ORGANIZER;CN="Match Secretary - Keith Jones":MAILTO:keithjones1956@live.co.uk
END:VEVENT
BEGIN:VEVENT
DTSTART;TZID=Europe/London:20250122T141500
DTEND;TZID=Europe/London:20250122T190000
DTSTAMP:20260420T192754
CREATED:20241020T194417Z
LAST-MODIFIED:20241020T202218Z
UID:1444-1737555300-1737572400@evpa.co.uk
SUMMARY:London Bowling SA (Scribos)
DESCRIPTION:
URL:https://evpa.co.uk/event/london-bowling-sa-scribos-2/
LOCATION:Essex
CATEGORIES:Indoor Friendlies
ORGANIZER;CN="Match Secretary - Keith Jones":MAILTO:keithjones1956@live.co.uk
END:VEVENT
BEGIN:VEVENT
DTSTART;TZID=Europe/London:20250115T140000
DTEND;TZID=Europe/London:20250115T183000
DTSTAMP:20260420T192754
CREATED:20241020T194007Z
LAST-MODIFIED:20241020T202206Z
UID:1442-1736949600-1736965800@evpa.co.uk
SUMMARY:Essex County IBC
DESCRIPTION:
URL:https://evpa.co.uk/event/essex-county-ibc-5/
LOCATION:Essex County Bowling Indoor Club\, 21 Imperial Avenue\, Westcliff-On-Sea\, SS0 8NE\, United Kingdom
CATEGORIES:Indoor Friendlies
ORGANIZER;CN="Match Secretary - Keith Jones":MAILTO:keithjones1956@live.co.uk
END:VEVENT
BEGIN:VEVENT
DTSTART;TZID=Europe/London:20241117T100000
DTEND;TZID=Europe/London:20241117T120000
DTSTAMP:20260420T192754
CREATED:20241029T115518Z
LAST-MODIFIED:20241029T115522Z
UID:1477-1731837600-1731844800@evpa.co.uk
SUMMARY:AGM
DESCRIPTION:
URL:https://evpa.co.uk/event/agm/
LOCATION:RHP Bowls Club\, Canterbury Way\, St Fabians\, Chelmsford\, CM1 2XN
END:VEVENT
BEGIN:VEVENT
DTSTART;TZID=Europe/London:20241107T143000
DTEND;TZID=Europe/London:20241107T190000
DTSTAMP:20260420T192754
CREATED:20240419T213820Z
LAST-MODIFIED:20240419T213929Z
UID:1335-1730989800-1731006000@evpa.co.uk
SUMMARY:Clacton IBC
DESCRIPTION:
URL:https://evpa.co.uk/event/clacton-ibc-3/
LOCATION:Clacton and District Indoor Bowls Club\, Clay Hall Lane\, ﻿​Valley Road\, Clacton on Sea\, CO15 6NA
CATEGORIES:Indoor Friendlies
ORGANIZER;CN="Match Secretary - Keith Jones":MAILTO:keithjones1956@live.co.uk
END:VEVENT
BEGIN:VEVENT
DTSTART;TZID=Europe/London:20241024T140000
DTEND;TZID=Europe/London:20241024T183000
DTSTAMP:20260420T192754
CREATED:20240419T212934Z
LAST-MODIFIED:20240419T213919Z
UID:1333-1729778400-1729794600@evpa.co.uk
SUMMARY:Essex County IBC
DESCRIPTION:
URL:https://evpa.co.uk/event/essex-county-ibc-4/
LOCATION:Essex County Bowling Indoor Club\, 21 Imperial Avenue\, Westcliff-On-Sea\, SS0 8NE\, United Kingdom
CATEGORIES:Indoor Friendlies
ORGANIZER;CN="Match Secretary - Keith Jones":MAILTO:keithjones1956@live.co.uk
END:VEVENT
BEGIN:VEVENT
DTSTART;TZID=Europe/London:20241017T140000
DTEND;TZID=Europe/London:20241017T183000
DTSTAMP:20260420T192754
CREATED:20240419T212612Z
LAST-MODIFIED:20240419T213907Z
UID:1331-1729173600-1729189800@evpa.co.uk
SUMMARY:Chigwell IBC
DESCRIPTION:
URL:https://evpa.co.uk/event/chigwell-ibc-3/
LOCATION:Chigwell IBC\, David Lloyd Leisure Centre\, Roding Lane\, Buckhurst Hill Chigwell\, IG9 6BJ
CATEGORIES:Indoor Friendlies
ORGANIZER;CN="Match Secretary - Keith Jones":MAILTO:keithjones1956@live.co.uk
END:VEVENT
BEGIN:VEVENT
DTSTART;TZID=Europe/London:20241002T140000
DTEND;TZID=Europe/London:20241002T183000
DTSTAMP:20260420T192754
CREATED:20240419T212133Z
LAST-MODIFIED:20240419T213855Z
UID:1329-1727877600-1727893800@evpa.co.uk
SUMMARY:Basildon and District
DESCRIPTION:
URL:https://evpa.co.uk/event/basildon-and-district/
LOCATION:Essex County Bowling Indoor Club\, 21 Imperial Avenue\, Westcliff-On-Sea\, SS0 8NE\, United Kingdom
CATEGORIES:Indoor Friendlies
ORGANIZER;CN="Match Secretary - Keith Jones":MAILTO:keithjones1956@live.co.uk
END:VEVENT
BEGIN:VEVENT
DTSTART;TZID=Europe/London:20240917T140000
DTEND;TZID=Europe/London:20240917T183000
DTSTAMP:20260420T192754
CREATED:20240419T211600Z
LAST-MODIFIED:20240419T211654Z
UID:1327-1726581600-1726597800@evpa.co.uk
SUMMARY:Group 8
DESCRIPTION:
URL:https://evpa.co.uk/event/group-8-3/
LOCATION:Harlow Bowling Club\, 32B Terminus Street\, Harlow\, CM20 1EY
CATEGORIES:Outdoor Friendlies
ORGANIZER;CN="Match Secretary - Keith Jones":MAILTO:keithjones1956@live.co.uk
END:VEVENT
BEGIN:VEVENT
DTSTART;TZID=Europe/London:20240910T140000
DTEND;TZID=Europe/London:20240910T183000
DTSTAMP:20260420T192754
CREATED:20240419T164745Z
LAST-MODIFIED:20240419T211639Z
UID:1325-1725976800-1725993000@evpa.co.uk
SUMMARY:London Parks BA
DESCRIPTION:
URL:https://evpa.co.uk/event/london-parks-ba/
LOCATION:Wanstead Central BC\, Nutter Lane\, Wanstead\, E11 2JA
CATEGORIES:Outdoor Friendlies
ORGANIZER;CN="Match Secretary - Keith Jones":MAILTO:keithjones1956@live.co.uk
END:VEVENT
BEGIN:VEVENT
DTSTART;TZID=Europe/London:20240905T140000
DTEND;TZID=Europe/London:20240905T183000
DTSTAMP:20260420T192754
CREATED:20240419T164324Z
LAST-MODIFIED:20240419T211620Z
UID:1323-1725544800-1725561000@evpa.co.uk
SUMMARY:Colchester Borough BA
DESCRIPTION:
URL:https://evpa.co.uk/event/colchester-borough-ba/
LOCATION:Colchester West End BC\, 23 Fitzgilbert Rd\, Colchester\, CO2 7XB
CATEGORIES:Outdoor Friendlies
ORGANIZER;CN="Match Secretary - Keith Jones":MAILTO:keithjones1956@live.co.uk
END:VEVENT
BEGIN:VEVENT
DTSTART;TZID=Europe/London:20240822T140000
DTEND;TZID=Europe/London:20240822T183000
DTSTAMP:20260420T192754
CREATED:20240419T163157Z
LAST-MODIFIED:20240419T163238Z
UID:1321-1724335200-1724351400@evpa.co.uk
SUMMARY:East Herts BA
DESCRIPTION:
URL:https://evpa.co.uk/event/east-herts-ba/
LOCATION:Dunmow BC\, St Edmonds Lane\, Dunmow\, CM6 3AT
CATEGORIES:Outdoor Friendlies
ORGANIZER;CN="Match Secretary - Keith Jones":MAILTO:keithjones1956@live.co.uk
END:VEVENT
BEGIN:VEVENT
DTSTART;TZID=Europe/London:20240820T140000
DTEND;TZID=Europe/London:20240820T183000
DTSTAMP:20260420T192754
CREATED:20240419T162552Z
LAST-MODIFIED:20240419T163257Z
UID:1319-1724162400-1724178600@evpa.co.uk
SUMMARY:Group 9
DESCRIPTION:
URL:https://evpa.co.uk/event/group-9-2/
LOCATION:Aveley Bowls Club\, Recreation Ground\, High Street\, South Ockendon\, Essex\, RM15 4BX
CATEGORIES:Outdoor Friendlies
ORGANIZER;CN="Match Secretary - Keith Jones":MAILTO:keithjones1956@live.co.uk
END:VEVENT
BEGIN:VEVENT
DTSTART;TZID=Europe/London:20240815T140000
DTEND;TZID=Europe/London:20240815T183000
DTSTAMP:20260420T192754
CREATED:20240419T162150Z
LAST-MODIFIED:20240419T163314Z
UID:1317-1723730400-1723746600@evpa.co.uk
SUMMARY:President's Day
DESCRIPTION:
URL:https://evpa.co.uk/event/presidents-day-3/
LOCATION:Essex County Bowling Club\, 21 Imperial Avenue\, Westcliff-on-Sea\, SS0 8NE
CATEGORIES:Outdoor Friendlies
ORGANIZER;CN="Match Secretary - Keith Jones":MAILTO:keithjones1956@live.co.uk
END:VEVENT
END:VCALENDAR