BEGIN:VCALENDAR
VERSION:2.0
PRODID:-//Essex Vice Presidents Association - ECPv6.15.20//NONSGML v1.0//EN
CALSCALE:GREGORIAN
METHOD:PUBLISH
X-ORIGINAL-URL:https://evpa.co.uk
X-WR-CALDESC:Events for Essex Vice Presidents Association
REFRESH-INTERVAL;VALUE=DURATION:PT1H
X-Robots-Tag:noindex
X-PUBLISHED-TTL:PT1H
BEGIN:VTIMEZONE
TZID:Europe/London
BEGIN:DAYLIGHT
TZOFFSETFROM:+0000
TZOFFSETTO:+0100
TZNAME:BST
DTSTART:20240331T010000
END:DAYLIGHT
BEGIN:STANDARD
TZOFFSETFROM:+0100
TZOFFSETTO:+0000
TZNAME:GMT
DTSTART:20241027T010000
END:STANDARD
BEGIN:DAYLIGHT
TZOFFSETFROM:+0000
TZOFFSETTO:+0100
TZNAME:BST
DTSTART:20250330T010000
END:DAYLIGHT
BEGIN:STANDARD
TZOFFSETFROM:+0100
TZOFFSETTO:+0000
TZNAME:GMT
DTSTART:20251026T010000
END:STANDARD
BEGIN:DAYLIGHT
TZOFFSETFROM:+0000
TZOFFSETTO:+0100
TZNAME:BST
DTSTART:20260329T010000
END:DAYLIGHT
BEGIN:STANDARD
TZOFFSETFROM:+0100
TZOFFSETTO:+0000
TZNAME:GMT
DTSTART:20261025T010000
END:STANDARD
END:VTIMEZONE
BEGIN:VEVENT
DTSTART;TZID=Europe/London:20250629T120000
DTEND;TZID=Europe/London:20250705T120000
DTSTAMP:20260420T163027
CREATED:20241210T181307Z
LAST-MODIFIED:20250702T115630Z
UID:1543-1751198400-1751716800@evpa.co.uk
SUMMARY:2025 Tour of Norfolk
DESCRIPTION:
URL:https://evpa.co.uk/event/2025-tour-of-norfolk/
LOCATION:Essex
CATEGORIES:Tour
ORGANIZER;CN="Fixture Secretary - Ray Woollard":MAILTO:rwoollard@gmail.com
END:VEVENT
BEGIN:VEVENT
DTSTART;TZID=Europe/London:20250701T140000
DTEND;TZID=Europe/London:20250701T170000
DTSTAMP:20260420T163027
CREATED:20250402T194054Z
LAST-MODIFIED:20250402T194100Z
UID:1785-1751378400-1751389200@evpa.co.uk
SUMMARY:Aldiss Park Bowls Club
DESCRIPTION:Norfolk Tour
URL:https://evpa.co.uk/event/aldiss-park-bowls-club/
LOCATION:Aldiss Park Bowls Club\, Norwich Road\, Dereham\, NR20 3PX
CATEGORIES:Tour
ORGANIZER;CN="Match Secretary - Keith Jones":MAILTO:keithjones1956@live.co.uk
END:VEVENT
END:VCALENDAR